BEGIN:VCALENDAR
VERSION:2.0
PRODID:-//CHGA - ECPv6.15.20//NONSGML v1.0//EN
CALSCALE:GREGORIAN
METHOD:PUBLISH
X-WR-CALNAME:CHGA
X-ORIGINAL-URL:https://www.chga.fm
X-WR-CALDESC:évènements pour CHGA
REFRESH-INTERVAL;VALUE=DURATION:PT1H
X-Robots-Tag:noindex
X-PUBLISHED-TTL:PT1H
BEGIN:VTIMEZONE
TZID:America/Toronto
BEGIN:DAYLIGHT
TZOFFSETFROM:-0500
TZOFFSETTO:-0400
TZNAME:EDT
DTSTART:20210314T070000
END:DAYLIGHT
BEGIN:STANDARD
TZOFFSETFROM:-0400
TZOFFSETTO:-0500
TZNAME:EST
DTSTART:20211107T060000
END:STANDARD
BEGIN:DAYLIGHT
TZOFFSETFROM:-0500
TZOFFSETTO:-0400
TZNAME:EDT
DTSTART:20220313T070000
END:DAYLIGHT
BEGIN:STANDARD
TZOFFSETFROM:-0400
TZOFFSETTO:-0500
TZNAME:EST
DTSTART:20221106T060000
END:STANDARD
BEGIN:DAYLIGHT
TZOFFSETFROM:-0500
TZOFFSETTO:-0400
TZNAME:EDT
DTSTART:20230312T070000
END:DAYLIGHT
BEGIN:STANDARD
TZOFFSETFROM:-0400
TZOFFSETTO:-0500
TZNAME:EST
DTSTART:20231105T060000
END:STANDARD
END:VTIMEZONE
BEGIN:VEVENT
DTSTART;TZID=America/Toronto:20220611T170000
DTEND;TZID=America/Toronto:20220611T190000
DTSTAMP:20260421T052017
CREATED:20220525T191115Z
LAST-MODIFIED:20220525T191115Z
UID:402844-1654966800-1654974000@www.chga.fm
SUMMARY:5 à 7 avec le Club de moto les Hawks
DESCRIPTION:Le Club de moto les Hawks vous invite le vendredi 27 mai 2022 pour un 5 à 7 au Restaurant St-Hubert à Maniwaki. Une soirée pour socialiser et rencontrer les membres. Une gang de bon gars. Vous pourrez également acheter vos billets pour les tirages des prix au profit de Suicide Détour qui auront lieu le 11 juin prochain. De beaux prix dont 2 motos Harley-Davidson que vous pourrez admirer sur place lors du 5 à 7. Aussi un crédit voyage de 2 000$ et un forfait à la Pourvoirie la Pointe à David à gagner. Les membres du Club de moto les Hawks vous attendent en grand nombre et ont hâte de vous rencontrer!
URL:https://www.chga.fm/evenement/5-a-7-avec-le-club-de-moto-les-hawks/
LOCATION:QC\, Canada
END:VEVENT
END:VCALENDAR