BEGIN:VCALENDAR
VERSION:2.0
PRODID:-//CHGA - ECPv6.15.20//NONSGML v1.0//EN
CALSCALE:GREGORIAN
METHOD:PUBLISH
X-WR-CALNAME:CHGA
X-ORIGINAL-URL:https://www.chga.fm
X-WR-CALDESC:évènements pour CHGA
REFRESH-INTERVAL;VALUE=DURATION:PT1H
X-Robots-Tag:noindex
X-PUBLISHED-TTL:PT1H
BEGIN:VTIMEZONE
TZID:America/Toronto
BEGIN:DAYLIGHT
TZOFFSETFROM:-0500
TZOFFSETTO:-0400
TZNAME:EDT
DTSTART:20210314T070000
END:DAYLIGHT
BEGIN:STANDARD
TZOFFSETFROM:-0400
TZOFFSETTO:-0500
TZNAME:EST
DTSTART:20211107T060000
END:STANDARD
BEGIN:DAYLIGHT
TZOFFSETFROM:-0500
TZOFFSETTO:-0400
TZNAME:EDT
DTSTART:20220313T070000
END:DAYLIGHT
BEGIN:STANDARD
TZOFFSETFROM:-0400
TZOFFSETTO:-0500
TZNAME:EST
DTSTART:20221106T060000
END:STANDARD
BEGIN:DAYLIGHT
TZOFFSETFROM:-0500
TZOFFSETTO:-0400
TZNAME:EDT
DTSTART:20230312T070000
END:DAYLIGHT
BEGIN:STANDARD
TZOFFSETFROM:-0400
TZOFFSETTO:-0500
TZNAME:EST
DTSTART:20231105T060000
END:STANDARD
END:VTIMEZONE
BEGIN:VEVENT
DTSTART;TZID=America/Toronto:20221006T160000
DTEND;TZID=America/Toronto:20221006T160000
DTSTAMP:20260420T221434
CREATED:20220913T173153Z
LAST-MODIFIED:20220913T173226Z
UID:409332-1665072000-1665072000@www.chga.fm
SUMMARY:AGA avec le Club 3ème Âge de Messines
DESCRIPTION:Le Club 3ième Âge de Messines vous invite à son Assemblée Générale le jeudi 6 octobre 2022 à 16h. Suivi d’un buffet froid préparé par Mme Diane Larivière. Les billets sont en vente au Dépanneur Messines et chez Cachet Lomartex au coût de 10$ chacun qui inclut votre carte de membre. Svp\, veuillez acheter vos billets avant le 1er octobre\, car nous ne réservons pas par téléphone et nous n’en vendons pas à la réception. \nPour plus d’informations\, communiquez avec Monique Cécire au 819-465-5198.
URL:https://www.chga.fm/evenement/409332/
LOCATION:QC\, Canada
END:VEVENT
END:VCALENDAR