BEGIN:VCALENDAR
VERSION:2.0
PRODID:-//CHGA - ECPv6.15.20//NONSGML v1.0//EN
CALSCALE:GREGORIAN
METHOD:PUBLISH
X-WR-CALNAME:CHGA
X-ORIGINAL-URL:https://www.chga.fm
X-WR-CALDESC:évènements pour CHGA
REFRESH-INTERVAL;VALUE=DURATION:PT1H
X-Robots-Tag:noindex
X-PUBLISHED-TTL:PT1H
BEGIN:VTIMEZONE
TZID:America/Toronto
BEGIN:DAYLIGHT
TZOFFSETFROM:-0500
TZOFFSETTO:-0400
TZNAME:EDT
DTSTART:20210314T070000
END:DAYLIGHT
BEGIN:STANDARD
TZOFFSETFROM:-0400
TZOFFSETTO:-0500
TZNAME:EST
DTSTART:20211107T060000
END:STANDARD
BEGIN:DAYLIGHT
TZOFFSETFROM:-0500
TZOFFSETTO:-0400
TZNAME:EDT
DTSTART:20220313T070000
END:DAYLIGHT
BEGIN:STANDARD
TZOFFSETFROM:-0400
TZOFFSETTO:-0500
TZNAME:EST
DTSTART:20221106T060000
END:STANDARD
BEGIN:DAYLIGHT
TZOFFSETFROM:-0500
TZOFFSETTO:-0400
TZNAME:EDT
DTSTART:20230312T070000
END:DAYLIGHT
BEGIN:STANDARD
TZOFFSETFROM:-0400
TZOFFSETTO:-0500
TZNAME:EST
DTSTART:20231105T060000
END:STANDARD
END:VTIMEZONE
BEGIN:VEVENT
DTSTART;TZID=America/Toronto:20220814T090000
DTEND;TZID=America/Toronto:20220814T093000
DTSTAMP:20260421T000519
CREATED:20220803T124948Z
LAST-MODIFIED:20220803T125229Z
UID:407264-1660467600-1660469400@www.chga.fm
SUMMARY:Soulignage d'anniversaire de mariage - Saint-Boniface
DESCRIPTION:Venez célébrer l’amour avec nous le dimanche 14 août 2022 à 9h15 à l’église Saint-Boniface de Bois-Franc. \nLa Communauté Saint-Boniface de Bois-Franc\, souligne les anniversaires de mariage des personnes qui se sont unis à l’église. Cette célébration sera spéciale dans le sens qu’il y aura des chants appropriés et l’église sera décorée de façons festives pour cette occasion. Vous aimeriez être souligné\, mais vous ne savez pas comment faire pour vous inscrire? \nPour toutes informations\, nous vous invitons à communiquer avec Yves Lafontaine au 819 449-3056. Bienvenue à nos paroissiens et paroissiennes et à nos visiteurs.
URL:https://www.chga.fm/evenement/407264/
LOCATION:Église St-Boniface de Bois-Franc\, 463\, route 105\, Bois-Franc\, QC\, J9E 3A9\, Canada
END:VEVENT
END:VCALENDAR