BEGIN:VCALENDAR
VERSION:2.0
PRODID:-//CHGA - ECPv6.15.20//NONSGML v1.0//EN
CALSCALE:GREGORIAN
METHOD:PUBLISH
X-WR-CALNAME:CHGA
X-ORIGINAL-URL:https://www.chga.fm
X-WR-CALDESC:évènements pour CHGA
REFRESH-INTERVAL;VALUE=DURATION:PT1H
X-Robots-Tag:noindex
X-PUBLISHED-TTL:PT1H
BEGIN:VTIMEZONE
TZID:America/Toronto
BEGIN:DAYLIGHT
TZOFFSETFROM:-0500
TZOFFSETTO:-0400
TZNAME:EDT
DTSTART:20210314T070000
END:DAYLIGHT
BEGIN:STANDARD
TZOFFSETFROM:-0400
TZOFFSETTO:-0500
TZNAME:EST
DTSTART:20211107T060000
END:STANDARD
BEGIN:DAYLIGHT
TZOFFSETFROM:-0500
TZOFFSETTO:-0400
TZNAME:EDT
DTSTART:20220313T070000
END:DAYLIGHT
BEGIN:STANDARD
TZOFFSETFROM:-0400
TZOFFSETTO:-0500
TZNAME:EST
DTSTART:20221106T060000
END:STANDARD
BEGIN:DAYLIGHT
TZOFFSETFROM:-0500
TZOFFSETTO:-0400
TZNAME:EDT
DTSTART:20230312T070000
END:DAYLIGHT
BEGIN:STANDARD
TZOFFSETFROM:-0400
TZOFFSETTO:-0500
TZNAME:EST
DTSTART:20231105T060000
END:STANDARD
END:VTIMEZONE
BEGIN:VEVENT
DTSTART;TZID=America/Toronto:20220117T130000
DTEND;TZID=America/Toronto:20220117T200000
DTSTAMP:20260421T123120
CREATED:20211223T160315Z
LAST-MODIFIED:20211223T160556Z
UID:393882-1642424400-1642449600@www.chga.fm
SUMMARY:Collecte de Sang | Héma-Québec
DESCRIPTION:Les nombreux bénévoles de Maniwaki\, les Caisses populaires de la Vallée-de-la-Gatineau\, la Ville et les Pompiers de Maniwaki\, la Sûreté du Québec et CHGA\, vous invitent à la collecte de sang qui se tiendra le lundi 17 janvier\, entre 13 h et 20 h\, à l’Auberge du Draveur située au 85\, rue Principale Nord à Maniwaki. L’objectif de cet événement est d’accueillir 115 donneurs. Soyez nombreux à prendre rendez-vous! Il est également nécessaire de prendre rendez-vous avant de se présenter en collecte. Vous pouvez dorénavant réserver votre place en ligne en créant votre profil au : jedonne.hemaquebec.qc.ca/Vous pouvez également contacter le 1 800 343-7264 (SANG).
URL:https://www.chga.fm/evenement/393882/
LOCATION:Auberge du draveur\, 85\, rue Principale Nord\, Maniwaki\, QC\, J9E 2B5\, Canada
END:VEVENT
END:VCALENDAR