BEGIN:VCALENDAR
VERSION:2.0
PRODID:-//CHGA - ECPv6.15.20//NONSGML v1.0//EN
CALSCALE:GREGORIAN
METHOD:PUBLISH
X-WR-CALNAME:CHGA
X-ORIGINAL-URL:https://www.chga.fm
X-WR-CALDESC:évènements pour CHGA
REFRESH-INTERVAL;VALUE=DURATION:PT1H
X-Robots-Tag:noindex
X-PUBLISHED-TTL:PT1H
BEGIN:VTIMEZONE
TZID:America/Toronto
BEGIN:DAYLIGHT
TZOFFSETFROM:-0500
TZOFFSETTO:-0400
TZNAME:EDT
DTSTART:20200308T070000
END:DAYLIGHT
BEGIN:STANDARD
TZOFFSETFROM:-0400
TZOFFSETTO:-0500
TZNAME:EST
DTSTART:20201101T060000
END:STANDARD
BEGIN:DAYLIGHT
TZOFFSETFROM:-0500
TZOFFSETTO:-0400
TZNAME:EDT
DTSTART:20210314T070000
END:DAYLIGHT
BEGIN:STANDARD
TZOFFSETFROM:-0400
TZOFFSETTO:-0500
TZNAME:EST
DTSTART:20211107T060000
END:STANDARD
BEGIN:DAYLIGHT
TZOFFSETFROM:-0500
TZOFFSETTO:-0400
TZNAME:EDT
DTSTART:20220313T070000
END:DAYLIGHT
BEGIN:STANDARD
TZOFFSETFROM:-0400
TZOFFSETTO:-0500
TZNAME:EST
DTSTART:20221106T060000
END:STANDARD
END:VTIMEZONE
BEGIN:VEVENT
DTSTART;TZID=America/Toronto:20211101T080000
DTEND;TZID=America/Toronto:20211105T160000
DTSTAMP:20260421T152745
CREATED:20211026T123616Z
LAST-MODIFIED:20211026T123748Z
UID:390631-1635753600-1636128000@www.chga.fm
SUMMARY:Aux goût du jour - Paniers de Noël
DESCRIPTION:Des paniers de Noel seront offerts par Aux Goûts du jour (Les Oeuvres de charité) – dépannage alimentaire pour le secteur sud de la MRC Vallée de la Gatineau (Bouchette\, Gracefield\, Cayamant\, Kazabazua\, Lac Ste-Marie\, Low…) \nLes inscriptions doivent se faire avant le 10 décembre\, 16 h 00 en téléphonant et en laissant votre message au 819 463-1469. Une personne vous rappellera pour prendre toutes les informations pertinentes \nUne preuve de résidence ainsi qu’une preuve de revenus doivent être présentées. \nLes paniers seront offerts sur rendez-vous seulement dans la semaine du 19 décembre.
URL:https://www.chga.fm/evenement/390631/
LOCATION:QC\, Canada
END:VEVENT
END:VCALENDAR