BEGIN:VCALENDAR
VERSION:2.0
PRODID:-//CHGA - ECPv6.15.20//NONSGML v1.0//EN
CALSCALE:GREGORIAN
METHOD:PUBLISH
X-WR-CALNAME:CHGA
X-ORIGINAL-URL:https://www.chga.fm
X-WR-CALDESC:évènements pour CHGA
REFRESH-INTERVAL;VALUE=DURATION:PT1H
X-Robots-Tag:noindex
X-PUBLISHED-TTL:PT1H
BEGIN:VTIMEZONE
TZID:America/Toronto
BEGIN:DAYLIGHT
TZOFFSETFROM:-0500
TZOFFSETTO:-0400
TZNAME:EDT
DTSTART:20250309T070000
END:DAYLIGHT
BEGIN:STANDARD
TZOFFSETFROM:-0400
TZOFFSETTO:-0500
TZNAME:EST
DTSTART:20251102T060000
END:STANDARD
BEGIN:DAYLIGHT
TZOFFSETFROM:-0500
TZOFFSETTO:-0400
TZNAME:EDT
DTSTART:20260308T070000
END:DAYLIGHT
BEGIN:STANDARD
TZOFFSETFROM:-0400
TZOFFSETTO:-0500
TZNAME:EST
DTSTART:20261101T060000
END:STANDARD
BEGIN:DAYLIGHT
TZOFFSETFROM:-0500
TZOFFSETTO:-0400
TZNAME:EDT
DTSTART:20270314T070000
END:DAYLIGHT
BEGIN:STANDARD
TZOFFSETFROM:-0400
TZOFFSETTO:-0500
TZNAME:EST
DTSTART:20271107T060000
END:STANDARD
END:VTIMEZONE
BEGIN:VEVENT
DTSTART;TZID=America/Toronto:20260421T060000
DTEND;TZID=America/Toronto:20260421T103000
DTSTAMP:20260424T153855
CREATED:20260219T182139Z
LAST-MODIFIED:20260326T123537Z
UID:477745-1776751200-1776767400@www.chga.fm
SUMMARY:36e déjeuner annuel - Aide aux Personnes Handicapées d’Antoine-Labelle
DESCRIPTION:Le mardi 21 avril 2026\, (l’APHAL) Aide aux Personnes Handicapées d’Antoine-Labelle en collaboration avec ses partenaires organise son 36e déjeuner annuel au Restaurant Ben & Florentine de Mont-Laurier de 6 h à 12 h.  Nous invitons les employeurs et les employés à participer à cette levée de fonds pour notre organisme de bienfaisance de Mont-Laurier.  Nous demanderons une contribution volontaire et un reçu pour fins d’impôt sera émis pour un don de 20 $ et plus.  \nInformation : 819-440-2297.
URL:https://www.chga.fm/evenement/36e-dejeuner-annuel-aide-aux-personnes-handicapees-dantoine-labelle/
END:VEVENT
END:VCALENDAR