BEGIN:VCALENDAR
VERSION:2.0
PRODID:-//CHGA - ECPv6.15.20//NONSGML v1.0//EN
CALSCALE:GREGORIAN
METHOD:PUBLISH
X-WR-CALNAME:CHGA
X-ORIGINAL-URL:https://www.chga.fm
X-WR-CALDESC:évènements pour CHGA
REFRESH-INTERVAL;VALUE=DURATION:PT1H
X-Robots-Tag:noindex
X-PUBLISHED-TTL:PT1H
BEGIN:VTIMEZONE
TZID:America/Toronto
BEGIN:DAYLIGHT
TZOFFSETFROM:-0500
TZOFFSETTO:-0400
TZNAME:EDT
DTSTART:20210314T070000
END:DAYLIGHT
BEGIN:STANDARD
TZOFFSETFROM:-0400
TZOFFSETTO:-0500
TZNAME:EST
DTSTART:20211107T060000
END:STANDARD
BEGIN:DAYLIGHT
TZOFFSETFROM:-0500
TZOFFSETTO:-0400
TZNAME:EDT
DTSTART:20220313T070000
END:DAYLIGHT
BEGIN:STANDARD
TZOFFSETFROM:-0400
TZOFFSETTO:-0500
TZNAME:EST
DTSTART:20221106T060000
END:STANDARD
BEGIN:DAYLIGHT
TZOFFSETFROM:-0500
TZOFFSETTO:-0400
TZNAME:EDT
DTSTART:20230312T070000
END:DAYLIGHT
BEGIN:STANDARD
TZOFFSETFROM:-0400
TZOFFSETTO:-0500
TZNAME:EST
DTSTART:20231105T060000
END:STANDARD
END:VTIMEZONE
BEGIN:VEVENT
DTSTART;TZID=America/Toronto:20220911T140000
DTEND;TZID=America/Toronto:20220911T140000
DTSTAMP:20260421T000033
CREATED:20220907T172611Z
LAST-MODIFIED:20220907T172611Z
UID:408972-1662904800-1662904800@www.chga.fm
SUMMARY:22e célébration annuelle avec La Croix du peuple
DESCRIPTION:La 22e célébration annuelle bilingue de prières et de musiques se fera au volant de votre voiture dans le stationnement de l’ancien poste de police de Low au 400\, route 105\, et ce\, le dimanche 11 septembre prochain\, à 14 h 00. Musique par Howard Hayes et Compagnie. \nApportez vos chaises de parterre et vos masques si vous le désirez.
URL:https://www.chga.fm/evenement/22e-celebration-annuelle-avec-la-croix-du-peuple/
LOCATION:QC\, Canada
END:VEVENT
END:VCALENDAR